1.0000000000
0.0000000000
0.0000000000
-1.0000000000
599553.5000000000
4116632.5000000000
