1.0000000000
0.0000000000
0.0000000000
-1.0000000000
671250.5000000000
4138649.5000000000
