1.0000000000
0.0000000000
0.0000000000
-1.0000000000
671392.5000000000
4131714.5000000000
