1.0000000000
0.0000000000
0.0000000000
-1.0000000000
665853.5000000000
4131599.5000000000
