1.0000000000
0.0000000000
0.0000000000
-1.0000000000
660181.5000000000
4138422.5000000000
