1.0000000000
0.0000000000
0.0000000000
-1.0000000000
654647.5000000000
4138314.5000000000
