1.0000000000
0.0000000000
0.0000000000
-1.0000000000
654775.5000000000
4131379.5000000000
