FILENAME: 37121C24
QUADRANGLE_NAME: ORESTIMBA PEAK
QUADRANT: SW
WEST_LONGITUDE: -121 15 0.00000
EAST_LONGITUDE: -121 11 15.00000
NORTH_LATITUDE: 37 18 45.00000
SOUTH_LATITUDE: 37 15 0.00000
PRODUCTION_DATE: 2001 11 29
RASTER_ORDER: LEFT_RIGHT/TOP_BOTTOM
BAND_ORGANIZATION: SINGLE FILE
BAND_CONTENT: BLACK&WHITE
BAND_CONTENT: UNDEFINED
BAND_CONTENT: UNDEFINED
BITS_PER_PIXEL: 8
SAMPLES_AND_LINES: 6390 7680
HORIZONTAL_DATUM: NAD83
HORIZONTAL_COORDINATE_SYSTEM: UTM
COORDINATE_ZONE: 10
HORIZONTAL_UNITS: METERS
HORIZONTAL_RESOLUTION: 1.00000
SECONDARY_HORIZONTAL_DATUM: NAD27
XY_ORIGIN: 654660.00000 4131390.00000
SECONDARY_XY_ORIGIN: 654756.20600 4131194.86800
NATION: US
STATE: CA
NW_QUAD_CORNER_XY: 655075.03200 4130975.72400
NE_QUAD_CORNER_XY: 660613.91100 4131080.13700
SE_QUAD_CORNERY_XY: 660746.83400 4124145.54700
SW_QUAD_CORNER_XY: 655203.36700 4124041.19700
SECONDARY_NW_QUAD_XY: 655078.84100 4130771.77700
SECONDARY_NE_QUAD_XY: 660617.85700 4130876.19300
SECONDARY_SE_QUAD_XY: 660750.77700 4123941.76100
SECONDARY_SW_QUAD_XY: 655207.17300 4123837.40900
RMSE_XY: 3.25000
IMAGE_SOURCE: BLACK AND WHITE FILM
SOURCE_IMAGE_ID: NAPP 10522 72
SOURCE_IMAGE_DATE: 1998 08 16
SOURCE_IMAGE_ID: NAPP 10521 220
SOURCE_IMAGE_DATE: 1998 08 16
SOURCE_IMAGE_ID: NAPP 10522 169
SOURCE_IMAGE_DATE: 1998 08 17
SOURCE_IMAGE_ID: NAPP 10522 74
SOURCE_IMAGE_DATE: 1998 08 16
SOURCE_DEM_DATE: 1971 00 00
AGENCY: WESTERN MAPPING CENTER (WMC)
PRODUCER: SANBORN COLORADO, L.L.C.
PRODUCTION_SYSTEM: ORBIT OR_RECTIFY V.5.2
COMPRESSION: UNDEFINED
STANDARD_VERSION: 1996 12
METADATA_DATE: 2001 12 07
DATA_FILE_SIZE: 49081590
BYTE_COUNT: 6390
