1.0000000000
0.0000000000
0.0000000000
-1.0000000000
638044.5000000000
4138011.5000000000
