1.0000000000
0.0000000000
0.0000000000
-1.0000000000
638159.5000000000
4131077.5000000000
