FILENAME: 37121C43
QUADRANGLE_NAME: MOUNT STAKES
QUADRANT: SE
WEST_LONGITUDE: -121 26 15.00000
EAST_LONGITUDE: -121 22 30.00000
NORTH_LATITUDE: 37 18 45.00000
SOUTH_LATITUDE: 37 15 0.00000
PRODUCTION_DATE: 2001 11 19
RASTER_ORDER: LEFT_RIGHT/TOP_BOTTOM
BAND_ORGANIZATION: SINGLE FILE
BAND_CONTENT: BLACK&WHITE
BAND_CONTENT: UNDEFINED
BAND_CONTENT: UNDEFINED
BITS_PER_PIXEL: 8
SAMPLES_AND_LINES: 6390 7650
HORIZONTAL_DATUM: NAD83
HORIZONTAL_COORDINATE_SYSTEM: UTM
COORDINATE_ZONE: 10
HORIZONTAL_UNITS: METERS
HORIZONTAL_RESOLUTION: 1.00000
SECONDARY_HORIZONTAL_DATUM: NAD27
XY_ORIGIN: 638040.00000 4131090.00000
SECONDARY_XY_ORIGIN: 638136.32200 4130894.52400
NATION: US
STATE: CA
NW_QUAD_CORNER_XY: 638458.68100 4130684.48500
NE_QUAD_CORNER_XY: 643997.41800 4130777.89800
SE_QUAD_CORNERY_XY: 644116.57900 4123843.49100
SW_QUAD_CORNER_XY: 638573.25600 4123750.13400
SECONDARY_NW_QUAD_XY: 638462.08200 4130480.53100
SECONDARY_NE_QUAD_XY: 644000.95500 4130573.94700
SECONDARY_SE_QUAD_XY: 644120.11400 4123639.69800
SECONDARY_SW_QUAD_XY: 638576.65500 4123546.33900
RMSE_XY: 3.15000
IMAGE_SOURCE: BLACK AND WHITE FILM
SOURCE_IMAGE_ID: NAPP 10523 174
SOURCE_IMAGE_DATE: 1998 08 18
SOURCE_IMAGE_ID: NAPP 10523 176
SOURCE_IMAGE_DATE: 1998 08 18
SOURCE_IMAGE_ID: NAPP 10523 172
SOURCE_IMAGE_DATE: 1998 08 18
SOURCE_IMAGE_ID: NAPP 10523 197
SOURCE_IMAGE_DATE: 1998 08 18
SOURCE_DEM_DATE: 1955 00 00
AGENCY: WESTERN MAPPING CENTER (WMC)
PRODUCER: SANBORN COLORADO, L.L.C.
PRODUCTION_SYSTEM: ORBIT OR_RECTIFY V.5.2
COMPRESSION: UNDEFINED
STANDARD_VERSION: 1996 12
METADATA_DATE: 2001 11 27
DATA_FILE_SIZE: 48889890
BYTE_COUNT: 6390
