FILENAME: 37121C52
QUADRANGLE_NAME: ISABEL VALLEY
QUADRANT: NE
WEST_LONGITUDE: -121 33 45.00000
EAST_LONGITUDE: -121 30 0.00000
NORTH_LATITUDE: 37 22 30.00000
SOUTH_LATITUDE: 37 18 45.00000
PRODUCTION_DATE: 2001 11 02
RASTER_ORDER: LEFT_RIGHT/TOP_BOTTOM
BAND_ORGANIZATION: SINGLE FILE
BAND_CONTENT: BLACK&WHITE
BAND_CONTENT: UNDEFINED
BAND_CONTENT: UNDEFINED
BITS_PER_PIXEL: 8
SAMPLES_AND_LINES: 6360 7650
HORIZONTAL_DATUM: NAD83
HORIZONTAL_COORDINATE_SYSTEM: UTM
COORDINATE_ZONE: 10
HORIZONTAL_UNITS: METERS
HORIZONTAL_RESOLUTION: 1.00000
SECONDARY_HORIZONTAL_DATUM: NAD27
XY_ORIGIN: 626880.00000 4137840.00000
SECONDARY_XY_ORIGIN: 626976.39700 4137644.28900
NATION: US
STATE: CA
NW_QUAD_CORNER_XY: 627275.78200 4137442.96800
NE_QUAD_CORNER_XY: 632809.84100 4137529.10200
SE_QUAD_CORNERY_XY: 632919.98800 4130594.73700
SW_QUAD_CORNER_XY: 627381.33700 4130508.65500
SECONDARY_NW_QUAD_XY: 627278.91400 4137238.85200
SECONDARY_NE_QUAD_XY: 632813.10800 4137324.98800
SECONDARY_SE_QUAD_XY: 632923.25300 4130390.78100
SECONDARY_SW_QUAD_XY: 627384.46600 4130304.69700
RMSE_XY: 5.32000
IMAGE_SOURCE: BLACK AND WHITE FILM
SOURCE_IMAGE_ID: NAPP 10525 181
SOURCE_IMAGE_DATE: 1998 08 21
SOURCE_IMAGE_ID: NAPP 10525 179
SOURCE_IMAGE_DATE: 1998 08 21
SOURCE_IMAGE_ID: NAPP 10524 70
SOURCE_IMAGE_DATE: 1998 08 18
SOURCE_DEM_DATE: 1955 00 00
AGENCY: WESTERN MAPPING CENTER (WMC)
PRODUCER: SANBORN COLORADO, L.L.C.
PRODUCTION_SYSTEM: ORBIT OR_RECTIFY V.5.2
COMPRESSION: UNDEFINED
STANDARD_VERSION: 1996 12
METADATA_DATE: 2001 11 09
DATA_FILE_SIZE: 48660360
BYTE_COUNT: 6360
