1.0000000000
0.0000000000
0.0000000000
-1.0000000000
621442.5000000000
4137742.5000000000
