1.0000000000
0.0000000000
0.0000000000
-1.0000000000
621543.5000000000
4130808.5000000000
