1.0000000000
0.0000000000
0.0000000000
-1.0000000000
615908.5000000000
4137660.5000000000
