FILENAME: 37121C61
QUADRANGLE_NAME: LICK OBSERVATORY
QUADRANT: NW
WEST_LONGITUDE: -121 45 0.00000
EAST_LONGITUDE: -121 41 15.00000
NORTH_LATITUDE: 37 22 30.00000
SOUTH_LATITUDE: 37 18 45.00000
PRODUCTION_DATE: 2001 11 01
RASTER_ORDER: LEFT_RIGHT/TOP_BOTTOM
BAND_ORGANIZATION: SINGLE FILE
BAND_CONTENT: BLACK&WHITE
BAND_CONTENT: UNDEFINED
BAND_CONTENT: UNDEFINED
BITS_PER_PIXEL: 8
SAMPLES_AND_LINES: 6360 7650
HORIZONTAL_DATUM: NAD83
HORIZONTAL_COORDINATE_SYSTEM: UTM
COORDINATE_ZONE: 10
HORIZONTAL_UNITS: METERS
HORIZONTAL_RESOLUTION: 1.00000
SECONDARY_HORIZONTAL_DATUM: NAD27
XY_ORIGIN: 610260.00000 4137600.00000
SECONDARY_XY_ORIGIN: 610356.66000 4137403.84400
NATION: US
STATE: CA
NW_QUAD_CORNER_XY: 610673.84100 4137206.56900
NE_QUAD_CORNER_XY: 616207.78400 4137281.70200
SE_QUAD_CORNERY_XY: 616304.15600 4130347.48600
SW_QUAD_CORNER_XY: 610765.62200 4130272.39800
SECONDARY_NW_QUAD_XY: 610676.56400 4137002.44700
SECONDARY_NE_QUAD_XY: 616210.64300 4137077.58200
SECONDARY_SE_QUAD_XY: 616307.01300 4130143.52300
SECONDARY_SW_QUAD_XY: 610768.34200 4130068.43400
RMSE_XY: 1.62000
IMAGE_SOURCE: BLACK AND WHITE FILM
SOURCE_IMAGE_ID: NAPP 10526 71
SOURCE_IMAGE_DATE: 1998 08 22
SOURCE_IMAGE_ID: NAPP 10525 70
SOURCE_IMAGE_DATE: 1998 08 21
SOURCE_DEM_DATE: 1953 00 00
AGENCY: WESTERN MAPPING CENTER (WMC)
PRODUCER: SANBORN COLORADO, L.L.C.
PRODUCTION_SYSTEM: ORBIT OR_RECTIFY V.5.2
COMPRESSION: UNDEFINED
STANDARD_VERSION: 1996 12
METADATA_DATE: 2001 11 09
DATA_FILE_SIZE: 48660360
BYTE_COUNT: 6360
