1.0000000000
0.0000000000
0.0000000000
-1.0000000000
616004.5000000000
4130725.5000000000
