FILENAME: 37121C63
QUADRANGLE_NAME: LICK OBSERVATORY
QUADRANT: SE
WEST_LONGITUDE: -121 41 15.00000
EAST_LONGITUDE: -121 37 30.00000
NORTH_LATITUDE: 37 18 45.00000
SOUTH_LATITUDE: 37 15 0.00000
PRODUCTION_DATE: 2001 11 01
RASTER_ORDER: LEFT_RIGHT/TOP_BOTTOM
BAND_ORGANIZATION: SINGLE FILE
BAND_CONTENT: BLACK&WHITE
BAND_CONTENT: UNDEFINED
BAND_CONTENT: UNDEFINED
BITS_PER_PIXEL: 8
SAMPLES_AND_LINES: 6360 7650
HORIZONTAL_DATUM: NAD83
HORIZONTAL_COORDINATE_SYSTEM: UTM
COORDINATE_ZONE: 10
HORIZONTAL_UNITS: METERS
HORIZONTAL_RESOLUTION: 1.00000
SECONDARY_HORIZONTAL_DATUM: NAD27
XY_ORIGIN: 615900.00000 4130730.00000
SECONDARY_XY_ORIGIN: 615996.58300 4130533.93100
NATION: US
STATE: CA
NW_QUAD_CORNER_XY: 616304.15600 4130347.48600
NE_QUAD_CORNER_XY: 621842.72700 4130426.23800
SE_QUAD_CORNERY_XY: 621943.54500 4123492.04300
SW_QUAD_CORNER_XY: 616400.38900 4123413.33900
SECONDARY_NW_QUAD_XY: 616307.01300 4130143.52300
SECONDARY_NE_QUAD_XY: 621845.72000 4130222.27700
SECONDARY_SE_QUAD_XY: 621946.53600 4123288.24200
SECONDARY_SW_QUAD_XY: 616403.24400 4123209.53500
RMSE_XY: 2.07000
IMAGE_SOURCE: BLACK AND WHITE FILM
SOURCE_IMAGE_ID: NAPP 10525 72
SOURCE_IMAGE_DATE: 1998 08 21
SOURCE_IMAGE_ID: NAPP 10525 70
SOURCE_IMAGE_DATE: 1998 08 21
SOURCE_IMAGE_ID: NAPP 10524 72
SOURCE_IMAGE_DATE: 1998 08 18
SOURCE_IMAGE_ID: NAPP 10525 74
SOURCE_IMAGE_DATE: 1998 08 21
SOURCE_DEM_DATE: 1953 00 00
AGENCY: WESTERN MAPPING CENTER (WMC)
PRODUCER: SANBORN COLORADO, L.L.C.
PRODUCTION_SYSTEM: ORBIT OR_RECTIFY V.5.2
COMPRESSION: UNDEFINED
STANDARD_VERSION: 1996 12
METADATA_DATE: 2001 11 14
DATA_FILE_SIZE: 48660360
BYTE_COUNT: 6360
