FILENAME: 37121C64
QUADRANGLE_NAME: LICK OBSERVATORY
QUADRANT: SW
WEST_LONGITUDE: -121 45 0.00000
EAST_LONGITUDE: -121 41 15.00000
NORTH_LATITUDE: 37 18 45.00000
SOUTH_LATITUDE: 37 15 0.00000
PRODUCTION_DATE: 2001 11 01
RASTER_ORDER: LEFT_RIGHT/TOP_BOTTOM
BAND_ORGANIZATION: SINGLE FILE
BAND_CONTENT: BLACK&WHITE
BAND_CONTENT: UNDEFINED
BAND_CONTENT: UNDEFINED
BITS_PER_PIXEL: 8
SAMPLES_AND_LINES: 6360 7650
HORIZONTAL_DATUM: NAD83
HORIZONTAL_COORDINATE_SYSTEM: UTM
COORDINATE_ZONE: 10
HORIZONTAL_UNITS: METERS
HORIZONTAL_RESOLUTION: 1.00000
SECONDARY_HORIZONTAL_DATUM: NAD27
XY_ORIGIN: 610350.00000 4130670.00000
SECONDARY_XY_ORIGIN: 610446.66200 4130473.77100
NATION: US
STATE: CA
NW_QUAD_CORNER_XY: 610765.62200 4130272.39800
NE_QUAD_CORNER_XY: 616304.15600 4130347.48600
SE_QUAD_CORNERY_XY: 616400.38900 4123413.33900
SW_QUAD_CORNER_XY: 610857.27000 4123338.29600
SECONDARY_NW_QUAD_XY: 610768.34200 4130068.43400
SECONDARY_NE_QUAD_XY: 616307.01300 4130143.52300
SECONDARY_SE_QUAD_XY: 616403.24400 4123209.53500
SECONDARY_SW_QUAD_XY: 610859.98900 4123134.49100
RMSE_XY: 2.78000
IMAGE_SOURCE: BLACK AND WHITE FILM
SOURCE_IMAGE_ID: NAPP 10526 73
SOURCE_IMAGE_DATE: 1998 08 22
SOURCE_IMAGE_ID: NAPP 10525 72
SOURCE_IMAGE_DATE: 1998 08 21
SOURCE_DEM_DATE: 1953 00 00
AGENCY: WESTERN MAPPING CENTER (WMC)
PRODUCER: SANBORN COLORADO, L.L.C.
PRODUCTION_SYSTEM: ORBIT OR_RECTIFY V.5.2
COMPRESSION: UNDEFINED
STANDARD_VERSION: 1996 12
METADATA_DATE: 2001 11 09
DATA_FILE_SIZE: 48660360
BYTE_COUNT: 6360
