1.0000000000
0.0000000000
0.0000000000
-1.0000000000
604840.5000000000
4137506.5000000000
