FILENAME: 37121C72
QUADRANGLE_NAME: SAN JOSE EAST
QUADRANT: NE
WEST_LONGITUDE: -121 48 45.00000
EAST_LONGITUDE: -121 45 0.00000
NORTH_LATITUDE: 37 22 30.00000
SOUTH_LATITUDE: 37 18 45.00000
PRODUCTION_DATE: 2001 11 01
RASTER_ORDER: LEFT_RIGHT/TOP_BOTTOM
BAND_ORGANIZATION: SINGLE FILE
BAND_CONTENT: BLACK&WHITE
BAND_CONTENT: UNDEFINED
BAND_CONTENT: UNDEFINED
BITS_PER_PIXEL: 8
SAMPLES_AND_LINES: 6330 7620
HORIZONTAL_DATUM: NAD83
HORIZONTAL_COORDINATE_SYSTEM: UTM
COORDINATE_ZONE: 10
HORIZONTAL_UNITS: METERS
HORIZONTAL_RESOLUTION: 1.00000
SECONDARY_HORIZONTAL_DATUM: NAD27
XY_ORIGIN: 604740.00000 4137510.00000
SECONDARY_XY_ORIGIN: 604836.72800 4137313.74200
NATION: US
STATE: CA
NW_QUAD_CORNER_XY: 605139.93300 4137135.10300
NE_QUAD_CORNER_XY: 610673.84100 4137206.56900
SE_QUAD_CORNERY_XY: 610765.62200 4130272.39800
SW_QUAD_CORNER_XY: 605227.12300 4130200.97500
SECONDARY_NW_QUAD_XY: 605142.52000 4136930.98000
SECONDARY_NE_QUAD_XY: 610676.56400 4137002.44700
SECONDARY_SE_QUAD_XY: 610768.34200 4130068.43400
SECONDARY_SW_QUAD_XY: 605229.70700 4129997.00900
RMSE_XY: 1.20000
IMAGE_SOURCE: BLACK AND WHITE FILM
SOURCE_IMAGE_ID: NAPP 10540 24
SOURCE_IMAGE_DATE: 1998 09 13
SOURCE_DEM_DATE: 1953 00 00
AGENCY: WESTERN MAPPING CENTER (WMC)
PRODUCER: SANBORN COLORADO, L.L.C.
PRODUCTION_SYSTEM: ORBIT OR_RECTIFY V.5.2
COMPRESSION: UNDEFINED
STANDARD_VERSION: 1996 12
METADATA_DATE: 2001 11 19
DATA_FILE_SIZE: 48240930
BYTE_COUNT: 6330
