1.0000000000
0.0000000000
0.0000000000
-1.0000000000
599306.5000000000
4137434.5000000000
