FILENAME: 37121C71
QUADRANGLE_NAME: SAN JOSE EAST
QUADRANT: NW
WEST_LONGITUDE: -121 52 30.00000
EAST_LONGITUDE: -121 48 45.00000
NORTH_LATITUDE: 37 22 30.00000
SOUTH_LATITUDE: 37 18 45.00000
PRODUCTION_DATE: 2001 11 01
RASTER_ORDER: LEFT_RIGHT/TOP_BOTTOM
BAND_ORGANIZATION: SINGLE FILE
BAND_CONTENT: BLACK&WHITE
BAND_CONTENT: UNDEFINED
BAND_CONTENT: UNDEFINED
BITS_PER_PIXEL: 8
SAMPLES_AND_LINES: 6360 7650
HORIZONTAL_DATUM: NAD83
HORIZONTAL_COORDINATE_SYSTEM: UTM
COORDINATE_ZONE: 10
HORIZONTAL_UNITS: METERS
HORIZONTAL_RESOLUTION: 1.00000
SECONDARY_HORIZONTAL_DATUM: NAD27
XY_ORIGIN: 599190.00000 4137450.00000
SECONDARY_XY_ORIGIN: 599286.79500 4137253.62800
NATION: US
STATE: CA
NW_QUAD_CORNER_XY: 599606.05800 4137067.30400
NE_QUAD_CORNER_XY: 605139.93300 4137135.10300
SE_QUAD_CORNERY_XY: 605227.12300 4130200.97500
SW_QUAD_CORNER_XY: 599688.65700 4130133.21600
SECONDARY_NW_QUAD_XY: 599608.50900 4136863.17800
SECONDARY_NE_QUAD_XY: 605142.52000 4136930.98000
SECONDARY_SE_QUAD_XY: 605229.70700 4129997.00900
SECONDARY_SW_QUAD_XY: 599691.10600 4129929.24800
RMSE_XY: 0.84000
IMAGE_SOURCE: BLACK AND WHITE FILM
SOURCE_IMAGE_ID: NAPP 10531 22
SOURCE_IMAGE_DATE: 1998 08 27
SOURCE_DEM_DATE: 1953 00 00
AGENCY: WESTERN MAPPING CENTER (WMC)
PRODUCER: SANBORN COLORADO, L.L.C.
PRODUCTION_SYSTEM: ORBIT OR_RECTIFY V.5.2
COMPRESSION: UNDEFINED
STANDARD_VERSION: 1996 12
METADATA_DATE: 2001 11 09
DATA_FILE_SIZE: 48660360
BYTE_COUNT: 6360
