1.0000000000
0.0000000000
0.0000000000
-1.0000000000
604927.5000000000
4130571.5000000000
