FILENAME: 37121C73
QUADRANGLE_NAME: SAN JOSE EAST
QUADRANT: SE
WEST_LONGITUDE: -121 48 45.00000
EAST_LONGITUDE: -121 45 0.00000
NORTH_LATITUDE: 37 18 45.00000
SOUTH_LATITUDE: 37 15 0.00000
PRODUCTION_DATE: 2001 11 01
RASTER_ORDER: LEFT_RIGHT/TOP_BOTTOM
BAND_ORGANIZATION: SINGLE FILE
BAND_CONTENT: BLACK&WHITE
BAND_CONTENT: UNDEFINED
BAND_CONTENT: UNDEFINED
BITS_PER_PIXEL: 8
SAMPLES_AND_LINES: 6330 7650
HORIZONTAL_DATUM: NAD83
HORIZONTAL_COORDINATE_SYSTEM: UTM
COORDINATE_ZONE: 10
HORIZONTAL_UNITS: METERS
HORIZONTAL_RESOLUTION: 1.00000
SECONDARY_HORIZONTAL_DATUM: NAD27
XY_ORIGIN: 604830.00000 4130580.00000
SECONDARY_XY_ORIGIN: 604926.73100 4130383.69200
NATION: US
STATE: CA
NW_QUAD_CORNER_XY: 605227.12300 4130200.97500
NE_QUAD_CORNER_XY: 610765.62200 4130272.39800
SE_QUAD_CORNERY_XY: 610857.27000 4123338.29600
SW_QUAD_CORNER_XY: 605314.18700 4123266.91700
SECONDARY_NW_QUAD_XY: 605229.70700 4129997.00900
SECONDARY_NE_QUAD_XY: 610768.34200 4130068.43400
SECONDARY_SE_QUAD_XY: 610859.98900 4123134.49100
SECONDARY_SW_QUAD_XY: 605316.76900 4123063.11000
RMSE_XY: 0.78000
IMAGE_SOURCE: BLACK AND WHITE FILM
SOURCE_IMAGE_ID: NAPP 10540 22
SOURCE_IMAGE_DATE: 1998 09 13
SOURCE_DEM_DATE: 1953 00 00
AGENCY: WESTERN MAPPING CENTER (WMC)
PRODUCER: SANBORN COLORADO, L.L.C.
PRODUCTION_SYSTEM: ORBIT OR_RECTIFY V.5.2
COMPRESSION: UNDEFINED
STANDARD_VERSION: 1996 12
METADATA_DATE: 2001 11 19
DATA_FILE_SIZE: 48430830
BYTE_COUNT: 6330
