1.0000000000
0.0000000000
0.0000000000
-1.0000000000
599389.5000000000
4130500.5000000000
