1.0000000000
0.0000000000
0.0000000000
-1.0000000000
670964.5000000000
4152519.5000000000
