1.0000000000
0.0000000000
0.0000000000
-1.0000000000
671107.5000000000
4145584.5000000000
