1.0000000000
0.0000000000
0.0000000000
-1.0000000000
665577.5000000000
4145469.5000000000
