FILENAME: 37121D14
QUADRANGLE_NAME: CROWS LANDING
QUADRANT: SW
WEST_LONGITUDE: -121 7 30.00000
EAST_LONGITUDE: -121 3 45.00000
NORTH_LATITUDE: 37 26 15.00000
SOUTH_LATITUDE: 37 22 30.00000
PRODUCTION_DATE: 2001 12 03
RASTER_ORDER: LEFT_RIGHT/TOP_BOTTOM
BAND_ORGANIZATION: SINGLE FILE
BAND_CONTENT: BLACK&WHITE
BAND_CONTENT: UNDEFINED
BAND_CONTENT: UNDEFINED
BITS_PER_PIXEL: 8
SAMPLES_AND_LINES: 6390 7680
HORIZONTAL_DATUM: NAD83
HORIZONTAL_COORDINATE_SYSTEM: UTM
COORDINATE_ZONE: 10
HORIZONTAL_UNITS: METERS
HORIZONTAL_RESOLUTION: 1.00000
SECONDARY_HORIZONTAL_DATUM: NAD27
XY_ORIGIN: 665460.00000 4145490.00000
SECONDARY_XY_ORIGIN: 665556.32400 4145294.88100
NATION: US
STATE: CA
NW_QUAD_CORNER_XY: 665877.22600 4145057.72500
NE_QUAD_CORNER_XY: 671407.01300 4145169.60600
SE_QUAD_CORNERY_XY: 671549.52200 4138234.75300
SW_QUAD_CORNER_XY: 666015.13300 4138122.93800
SECONDARY_NW_QUAD_XY: 665881.31400 4144853.46800
SECONDARY_NE_QUAD_XY: 671411.23700 4144965.35200
SECONDARY_SE_QUAD_XY: 671553.74300 4138030.65600
SECONDARY_SW_QUAD_XY: 666019.21800 4137918.83900
RMSE_XY: 1.55000
IMAGE_SOURCE: BLACK AND WHITE FILM
SOURCE_IMAGE_ID: NAPP 10542 109
SOURCE_IMAGE_DATE: 1999 07 29
SOURCE_IMAGE_ID: NAPP 10521 30
SOURCE_IMAGE_DATE: 1998 08 16
SOURCE_DEM_DATE: 1980 00 00
AGENCY: WESTERN MAPPING CENTER (WMC)
PRODUCER: SANBORN COLORADO, L.L.C.
PRODUCTION_SYSTEM: ORBIT OR_RECTIFY V.5.2
COMPRESSION: UNDEFINED
STANDARD_VERSION: 1996 12
METADATA_DATE: 2001 12 03
DATA_FILE_SIZE: 49081590
BYTE_COUNT: 6390
