1.0000000000
0.0000000000
0.0000000000
-1.0000000000
659914.5000000000
4152292.5000000000
