FILENAME: 37121D22
QUADRANGLE_NAME: PATTERSON
QUADRANT: NE
WEST_LONGITUDE: -121 11 15.00000
EAST_LONGITUDE: -121 7 30.00000
NORTH_LATITUDE: 37 30 0.00000
SOUTH_LATITUDE: 37 26 15.00000
PRODUCTION_DATE: 2001 11 29
RASTER_ORDER: LEFT_RIGHT/TOP_BOTTOM
BAND_ORGANIZATION: SINGLE FILE
BAND_CONTENT: BLACK&WHITE
BAND_CONTENT: UNDEFINED
BAND_CONTENT: UNDEFINED
BITS_PER_PIXEL: 8
SAMPLES_AND_LINES: 6360 7680
HORIZONTAL_DATUM: NAD83
HORIZONTAL_COORDINATE_SYSTEM: UTM
COORDINATE_ZONE: 10
HORIZONTAL_UNITS: METERS
HORIZONTAL_RESOLUTION: 1.00000
SECONDARY_HORIZONTAL_DATUM: NAD27
XY_ORIGIN: 659820.00000 4152300.00000
SECONDARY_XY_ORIGIN: 659916.36100 4152104.85500
NATION: US
STATE: CA
NW_QUAD_CORNER_XY: 660213.99300 4151884.30400
NE_QUAD_CORNER_XY: 665739.12000 4151992.57700
SE_QUAD_CORNERY_XY: 665877.22600 4145057.72500
SW_QUAD_CORNER_XY: 660347.49100 4144949.51600
SECONDARY_NW_QUAD_XY: 660217.94800 4151679.88900
SECONDARY_NE_QUAD_XY: 665743.21200 4151788.16400
SECONDARY_SE_QUAD_XY: 665881.31400 4144853.46800
SECONDARY_SW_QUAD_XY: 660351.44200 4144745.25600
RMSE_XY: 1.34000
IMAGE_SOURCE: BLACK AND WHITE FILM
SOURCE_IMAGE_ID: NAPP 10521 226
SOURCE_IMAGE_DATE: 1998 08 16
SOURCE_DEM_DATE: 1971 00 00
AGENCY: WESTERN MAPPING CENTER (WMC)
PRODUCER: SANBORN COLORADO, L.L.C.
PRODUCTION_SYSTEM: ORBIT OR_RECTIFY V.5.2
COMPRESSION: UNDEFINED
STANDARD_VERSION: 1996 12
METADATA_DATE: 2001 11 30
DATA_FILE_SIZE: 48851160
BYTE_COUNT: 6360
