1.0000000000
0.0000000000
0.0000000000
-1.0000000000
654389.5000000000
4152183.5000000000
