FILENAME: 37121D21
QUADRANGLE_NAME: PATTERSON
QUADRANT: NW
WEST_LONGITUDE: -121 15 0.00000
EAST_LONGITUDE: -121 11 15.00000
NORTH_LATITUDE: 37 30 0.00000
SOUTH_LATITUDE: 37 26 15.00000
PRODUCTION_DATE: 2001 11 29
RASTER_ORDER: LEFT_RIGHT/TOP_BOTTOM
BAND_ORGANIZATION: SINGLE FILE
BAND_CONTENT: BLACK&WHITE
BAND_CONTENT: UNDEFINED
BAND_CONTENT: UNDEFINED
BITS_PER_PIXEL: 8
SAMPLES_AND_LINES: 6390 7680
HORIZONTAL_DATUM: NAD83
HORIZONTAL_COORDINATE_SYSTEM: UTM
COORDINATE_ZONE: 10
HORIZONTAL_UNITS: METERS
HORIZONTAL_RESOLUTION: 1.00000
SECONDARY_HORIZONTAL_DATUM: NAD27
XY_ORIGIN: 654270.00000 4152210.00000
SECONDARY_XY_ORIGIN: 654366.35500 4152014.83000
NATION: US
STATE: CA
NW_QUAD_CORNER_XY: 654688.91600 4151779.70500
NE_QUAD_CORNER_XY: 660213.99300 4151884.30400
SE_QUAD_CORNERY_XY: 660347.49100 4144949.51600
SW_QUAD_CORNER_XY: 654817.80600 4144844.97800
SECONDARY_NW_QUAD_XY: 654692.73400 4151575.28700
SECONDARY_NE_QUAD_XY: 660217.94800 4151679.88900
SECONDARY_SE_QUAD_XY: 660351.44200 4144745.25600
SECONDARY_SW_QUAD_XY: 654821.62100 4144640.71600
RMSE_XY: 2.40000
IMAGE_SOURCE: BLACK AND WHITE FILM
SOURCE_IMAGE_ID: NAPP 10522 66
SOURCE_IMAGE_DATE: 1998 08 16
SOURCE_IMAGE_ID: NAPP 10522 163
SOURCE_IMAGE_DATE: 1998 08 17
SOURCE_DEM_DATE: 1971 00 00
AGENCY: WESTERN MAPPING CENTER (WMC)
PRODUCER: SANBORN COLORADO, L.L.C.
PRODUCTION_SYSTEM: ORBIT OR_RECTIFY V.5.2
COMPRESSION: UNDEFINED
STANDARD_VERSION: 1996 12
METADATA_DATE: 2001 12 03
DATA_FILE_SIZE: 49081590
BYTE_COUNT: 6390
