1.0000000000
0.0000000000
0.0000000000
-1.0000000000
660047.5000000000
4145357.5000000000
