FILENAME: 37121D23
QUADRANGLE_NAME: PATTERSON
QUADRANT: SE
WEST_LONGITUDE: -121 11 15.00000
EAST_LONGITUDE: -121 7 30.00000
NORTH_LATITUDE: 37 26 15.00000
SOUTH_LATITUDE: 37 22 30.00000
PRODUCTION_DATE: 2001 11 29
RASTER_ORDER: LEFT_RIGHT/TOP_BOTTOM
BAND_ORGANIZATION: SINGLE FILE
BAND_CONTENT: BLACK&WHITE
BAND_CONTENT: UNDEFINED
BAND_CONTENT: UNDEFINED
BITS_PER_PIXEL: 8
SAMPLES_AND_LINES: 6390 7680
HORIZONTAL_DATUM: NAD83
HORIZONTAL_COORDINATE_SYSTEM: UTM
COORDINATE_ZONE: 10
HORIZONTAL_UNITS: METERS
HORIZONTAL_RESOLUTION: 1.00000
SECONDARY_HORIZONTAL_DATUM: NAD27
XY_ORIGIN: 659940.00000 4145370.00000
SECONDARY_XY_ORIGIN: 660036.31500 4145174.86100
NATION: US
STATE: CA
NW_QUAD_CORNER_XY: 660347.49100 4144949.51600
NE_QUAD_CORNER_XY: 665877.22600 4145057.72500
SE_QUAD_CORNERY_XY: 666015.13300 4138122.93800
SW_QUAD_CORNER_XY: 660480.79700 4138014.79300
SECONDARY_NW_QUAD_XY: 660351.44200 4144745.25600
SECONDARY_NE_QUAD_XY: 665881.31400 4144853.46800
SECONDARY_SE_QUAD_XY: 666019.21800 4137918.83900
SECONDARY_SW_QUAD_XY: 660484.74600 4137810.69100
RMSE_XY: 2.21000
IMAGE_SOURCE: BLACK AND WHITE FILM
SOURCE_IMAGE_ID: NAPP 10521 224
SOURCE_IMAGE_DATE: 1998 08 16
SOURCE_DEM_DATE: 1971 00 00
AGENCY: WESTERN MAPPING CENTER (WMC)
PRODUCER: SANBORN COLORADO, L.L.C.
PRODUCTION_SYSTEM: ORBIT OR_RECTIFY V.5.2
COMPRESSION: UNDEFINED
STANDARD_VERSION: 1996 12
METADATA_DATE: 2001 11 30
DATA_FILE_SIZE: 49081590
BYTE_COUNT: 6390
