1.0000000000
0.0000000000
0.0000000000
-1.0000000000
654518.5000000000
4145249.5000000000
