1.0000000000
0.0000000000
0.0000000000
-1.0000000000
648864.5000000000
4152079.5000000000
