FILENAME: 37121D34
QUADRANGLE_NAME: COPPER MOUNTAIN
QUADRANT: SW
WEST_LONGITUDE: -121 22 30.00000
EAST_LONGITUDE: -121 18 45.00000
NORTH_LATITUDE: 37 26 15.00000
SOUTH_LATITUDE: 37 22 30.00000
PRODUCTION_DATE: 2001 11 29
RASTER_ORDER: LEFT_RIGHT/TOP_BOTTOM
BAND_ORGANIZATION: SINGLE FILE
BAND_CONTENT: BLACK&WHITE
BAND_CONTENT: UNDEFINED
BAND_CONTENT: UNDEFINED
BITS_PER_PIXEL: 8
SAMPLES_AND_LINES: 6390 7680
HORIZONTAL_DATUM: NAD83
HORIZONTAL_COORDINATE_SYSTEM: UTM
COORDINATE_ZONE: 10
HORIZONTAL_UNITS: METERS
HORIZONTAL_RESOLUTION: 1.00000
SECONDARY_HORIZONTAL_DATUM: NAD27
XY_ORIGIN: 643350.00000 4145070.00000
SECONDARY_XY_ORIGIN: 643446.29300 4144874.65000
NATION: US
STATE: CA
NW_QUAD_CORNER_XY: 643758.58000 4144646.91600
NE_QUAD_CORNER_XY: 649288.17000 4144744.11200
SE_QUAD_CORNERY_XY: 649412.27400 4137809.51100
SW_QUAD_CORNER_XY: 643878.08500 4137712.37300
SECONDARY_NW_QUAD_XY: 643762.12300 4144442.64900
SECONDARY_NE_QUAD_XY: 649291.84900 4144539.84700
SECONDARY_SE_QUAD_XY: 649415.95100 4137605.40400
SECONDARY_SW_QUAD_XY: 643881.62500 4137508.26400
RMSE_XY: 3.75000
IMAGE_SOURCE: BLACK AND WHITE FILM
SOURCE_IMAGE_ID: NAPP 10523 35
SOURCE_IMAGE_DATE: 1998 08 18
SOURCE_IMAGE_ID: NAPP 10523 37
SOURCE_IMAGE_DATE: 1998 08 18
SOURCE_IMAGE_ID: NAPP 10522 165
SOURCE_IMAGE_DATE: 1998 08 17
SOURCE_DEM_DATE: 1971 00 00
AGENCY: WESTERN MAPPING CENTER (WMC)
PRODUCER: SANBORN COLORADO, L.L.C.
PRODUCTION_SYSTEM: ORBIT OR_RECTIFY V.5.2
COMPRESSION: UNDEFINED
STANDARD_VERSION: 1996 12
METADATA_DATE: 2001 12 03
DATA_FILE_SIZE: 49081590
BYTE_COUNT: 6390
