1.0000000000
0.0000000000
0.0000000000
-1.0000000000
637717.0000000000
4151886.0000000000
