1.0000000000
0.0000000000
0.0000000000
-1.0000000000
632192.0000000000
4151792.0000000000
