1.0000000000
0.0000000000
0.0000000000
-1.0000000000
626670.5000000000
4151698.5000000000
