1.0000000000
0.0000000000
0.0000000000
-1.0000000000
621144.5000000000
4151611.5000000000
