1.0000000000
0.0000000000
0.0000000000
-1.0000000000
621246.5000000000
4144677.5000000000
