BEGIN_USGS_DOQ_HEADER *
QUADRANGLE_NAME "MOUNT DAY" 3.45 or 7.5-min. name*
QUADRANT NW quadrant indicator if cell size = 3.75-minutes*
WEST_LONGITUDE -121 45 0.000 signed deg min sec SDDD MM SS.SSS*
EAST_LONGITUDE -121 41 15.000 signed deg min sec SDDD MM SS.SSS*
NORTH_LATITUDE 37 30 0.000 signed deg min sec SDDD MM SS.SSS*
SOUTH_LATITUDE 37 26 15.000 signed deg min sec SDDD MM SS.SSS*
PRODUCTION_DATE 1998 8 7 yyyy mm dd*
RASTER_ORDER LEFT_RIGHT/TOP_BOTTOM video display order*
BAND_ORGANIZATION "SINGLE FILE" single file or BSQ, or BIL or BIP*
BAND_CONTENT BLACK&WHITE black&white or red green blue*
BITS_PER_PIXEL 8 radiometric resolution*
SAMPLES_AND_LINES 6319 7621 number of columns and rows*
HORIZONTAL_DATUM NAD83 primary horizontal datum*
HORIZONTAL_COORDINATE_SYSTEM UTM *
COORDINATE_ZONE 10 coordinate system zone number*
HORIZONTAL_UNITS METERS coordinate system units*
HORIZONTAL_RESOLUTION 1.00 pixel horiz. ground sample distance*
SECONDARY_HORIZONTAL_DATUM NAD27 secondary horizontal datum*
XY_ORIGIN 610094.000 4151451.000 coord. of upper left pixel pri. datum*
SECONDARY_XY_ORIGIN 610190.656 4151254.994 coord upper left pixel sec datum*
NATION US nation code*
STATE CA state fip code*
NW_QUAD_CORNER_XY 610489.884 4151075.122 XY coords. of pri. NW quad corner*
NE_QUAD_CORNER_XY 616014.625 4151150.344 XY coords. of pri. NE quad corner*
SE_QUAD_CORNER_XY 616111.274 4144215.988 XY coords. of pri. SE quad corner*
SW_QUAD_CORNER_XY 610581.929 4144140.811 XY coords. of pri. SW quad corner*
SECONDARY_NW_QUAD_XY 610492.611 4150870.686 XY coords. - sec. NW quad cor.*
SECONDARY_NE_QUAD_XY 616017.488 4150945.910 XY coords. - sec. NE quad cor.*
SECONDARY_SE_QUAD_XY 616114.135 4144011.711 XY coords. - sec. SE quad cor.*
SECONDARY_SW_QUAD_XY 610584.653 4143936.531 XY coords. - sec. SW quad cor.*
RMSE_XY 2.50 doq horiz. accuracy*
IMAGE_SOURCE "BLACK AND WHITE FILM" b&w, cir, natural color, other*
SOURCE_IMAGE_ID "NAPP 6367 016" source image id*
SOURCE_IMAGE_DATE 1994 06 07 source image date as yyyy mm dd*
IMAGE_SOURCE "BLACK AND WHITE FILM" b&w, cir, natural color, other*
SOURCE_IMAGE_ID "NAPP 6354 093" source image id*
SOURCE_IMAGE_DATE 1993 06 12 source image date as yyyy mm dd*
IMAGE_SOURCE "BLACK AND WHITE FILM" b&w, cir, natural color, other*
SOURCE_IMAGE_ID "NAPP 6354 095" source image id*
SOURCE_IMAGE_DATE 1993 06 12 source image date as yyyy mm dd*
IMAGE_SOURCE "BLACK AND WHITE FILM" b&w, cir, natural color, other*
SOURCE_IMAGE_ID "NAPP 6367 015" source image id*
SOURCE_IMAGE_DATE 1994 06 07 source image date as yyyy mm dd*
IMAGE_SOURCE "BLACK AND WHITE FILM" b&w, cir, natural color, other*
SOURCE_IMAGE_ID "NAPP 6367 017" source image id*
SOURCE_IMAGE_DATE 1994 06 07 source image date as yyyy mm dd*
SOURCE_DEM_DATE 1971 00 00 source dem date yyyy mm dd*
AGENCY "WESTERN MAPPING CENTER (WMC)" oversight agency*
PRODUCER "SCIENCE APPLICATIONS INTERNATIONAL" producer/contractor*
PRODUCTION_SYSTEM "GIS/MAGIC" production system*
STANDARD_VERSION 1996 12 version of DOQ standard*
METADATA_DATE 1998 08 21 date created or changed, yyyy mm dd*
DATA_FILE_SIZE 48163418 data set size in bytes*
BYTE_COUNT 6319 header byte count* * * * * * * * * * * * * * * * * * * * * * * *
END_USGS_HEADER *
