1.0000000000
0.0000000000
0.0000000000
-1.0000000000
615716.5000000000
4144594.5000000000
