1.0000000000
0.0000000000
0.0000000000
-1.0000000000
599045.5000000000
4151303.5000000000
