1.0000000000
0.0000000000
0.0000000000
-1.0000000000
604657.5000000000
4144440.5000000000
