1.0000000000
0.0000000000
0.0000000000
-1.0000000000
599128.5000000000
4144369.5000000000
