1.0000000000
0.0000000000
0.0000000000
-1.0000000000
648518.0000000000
4165954.0000000000
